BEGIN:VCALENDAR
VERSION:2.0
PRODID:-//Asotin County Health District - ECPv6.15.20//NONSGML v1.0//EN
CALSCALE:GREGORIAN
METHOD:PUBLISH
X-WR-CALNAME:Asotin County Health District
X-ORIGINAL-URL:https://ac-hd.org
X-WR-CALDESC:Events for Asotin County Health District
REFRESH-INTERVAL;VALUE=DURATION:PT1H
X-Robots-Tag:noindex
X-PUBLISHED-TTL:PT1H
BEGIN:VTIMEZONE
TZID:America/Los_Angeles
BEGIN:DAYLIGHT
TZOFFSETFROM:-0800
TZOFFSETTO:-0700
TZNAME:PDT
DTSTART:20250309T100000
END:DAYLIGHT
BEGIN:STANDARD
TZOFFSETFROM:-0700
TZOFFSETTO:-0800
TZNAME:PST
DTSTART:20251102T090000
END:STANDARD
BEGIN:DAYLIGHT
TZOFFSETFROM:-0800
TZOFFSETTO:-0700
TZNAME:PDT
DTSTART:20260308T100000
END:DAYLIGHT
BEGIN:STANDARD
TZOFFSETFROM:-0700
TZOFFSETTO:-0800
TZNAME:PST
DTSTART:20261101T090000
END:STANDARD
BEGIN:DAYLIGHT
TZOFFSETFROM:-0800
TZOFFSETTO:-0700
TZNAME:PDT
DTSTART:20270314T100000
END:DAYLIGHT
BEGIN:STANDARD
TZOFFSETFROM:-0700
TZOFFSETTO:-0800
TZNAME:PST
DTSTART:20271107T090000
END:STANDARD
END:VTIMEZONE
BEGIN:VEVENT
DTSTART;TZID=America/Los_Angeles:20260424T083000
DTEND;TZID=America/Los_Angeles:20260424T093000
DTSTAMP:20260424T135747
CREATED:20260211T213634Z
LAST-MODIFIED:20260212T175152Z
UID:2546-1777019400-1777023000@ac-hd.org
SUMMARY:SAIL Class
DESCRIPTION:Stay Active and Independent for Life (SAIL) fitness classes are open to everyone but are designed for adults over 65 years old. The instructor can help modify exercises to accommodate mobility challenges. No registration required.
URL:https://ac-hd.org/event/sail-class-51/
LOCATION:Valley Community And Senior Center\, 549 5th Street\, Clarkston\, WA\, 99403\, United States
ATTACH;FMTTYPE=image/png:https://ac-hd.org/wp-content/uploads/2026/02/website-event-and-news-images-9.png
END:VEVENT
END:VCALENDAR